BEGIN:VCALENDAR
CALSCALE:GREGORIAN
VERSION:2.0
METHOD:PUBLISH 
X-WR-CALNAME:
BEGIN:VEVENT
DTSTART;TZID=Europe/Paris:20260826T163000
DTEND;TZID=Europe/Paris:20260826T173000
SUMMARY:Dans les coulisses du fromage de chèvre - La Chèvre Bleue
CATEGORIE:Expositions, Visites et Découvertes
GEO:48.65228270000000;-0.24414340000000
LOCATION:La Durandière\, 61150 Rânes\, France
URL:https://www.fest.fr/e/2428159
UID:2428159-1@fest.fr
END:VEVENT
END:VCALENDAR
