BEGIN:VCALENDAR
CALSCALE:GREGORIAN
VERSION:2.0
METHOD:PUBLISH 
X-WR-CALNAME:
BEGIN:VEVENT
DTSTART;TZID=Europe/Paris:20260620T100000
DTEND;TZID=Europe/Paris:20260620T110000
SUMMARY:Découverte artisanale
CATEGORIE:Marchés, Foires et Salons
GEO:49.47670680000000;0.67742499000000
LOCATION:1680 Route d'Aizier\, 76940 Vatteville-la-Rue\, France
URL:https://www.fest.fr/e/2428100
UID:2428100-1@fest.fr
END:VEVENT
BEGIN:VEVENT
DTSTART;TZID=Europe/Paris:20260621T100000
DTEND;TZID=Europe/Paris:20260621T110000
SUMMARY:Découverte artisanale
CATEGORIE:Marchés, Foires et Salons
GEO:49.47670680000000;0.67742499000000
LOCATION:1680 Route d'Aizier\, 76940 Vatteville-la-Rue\, France
URL:https://www.fest.fr/e/2428100
UID:2428100-2@fest.fr
END:VEVENT
END:VCALENDAR
