BEGIN:VCALENDAR
CALSCALE:GREGORIAN
VERSION:2.0
METHOD:PUBLISH 
X-WR-CALNAME:
BEGIN:VEVENT
DTSTART;TZID=Europe/Paris:20260411T100000
DTEND;TZID=Europe/Paris:20260411T110000
SUMMARY:JEMA : Découverte des techniques de transformation de l'argile et des différente
CATEGORIE:Expositions, Visites et Découvertes
GEO:48.37171040000000;4.73320740000000
LOCATION:8 route de Joinville\, 10200 Soulaines-Dhuys\, France
URL:https://www.fest.fr/e/2428002
UID:2428002-1@fest.fr
END:VEVENT
END:VCALENDAR
