BEGIN:VCALENDAR
CALSCALE:GREGORIAN
VERSION:2.0
METHOD:PUBLISH 
X-WR-CALNAME:
BEGIN:VEVENT
DTSTART;TZID=Europe/Paris:20260927T073000
DTEND;TZID=Europe/Paris:20260927T083000
SUMMARY:Randonnée d'automne
CATEGORIE:Randonnées et balades
GEO:49.25809790000000;2.16224990000000
LOCATION:rue jean Jaures\, 60570 Andeville\, France
URL:https://www.fest.fr/e/2427945
UID:2427945-1@fest.fr
END:VEVENT
END:VCALENDAR
