BEGIN:VCALENDAR
CALSCALE:GREGORIAN
VERSION:2.0
METHOD:PUBLISH 
X-WR-CALNAME:
BEGIN:VEVENT
DTSTART;TZID=Europe/Paris:20260416T180000
DTEND;TZID=Europe/Paris:20260416T190000
SUMMARY:Atelier créatif - créer son tableau de visualisation
CATEGORIE:Stages, Ateliers et Initiations
GEO:46.17093780000000;1.87387610000000
LOCATION:22 Avenue Charles de Gaulle
Quincaillerie numérique\, 23000 Guéret\, France
URL:https://www.fest.fr/e/2427827
UID:2427827-1@fest.fr
END:VEVENT
END:VCALENDAR
