BEGIN:VCALENDAR
CALSCALE:GREGORIAN
VERSION:2.0
METHOD:PUBLISH 
X-WR-CALNAME:
BEGIN:VEVENT
DTSTART;TZID=Europe/Paris:20260531T110000
DTEND;TZID=Europe/Paris:20260531T120000
SUMMARY:Concert de Flack's Mood + Brunch à La Station
CATEGORIE:Concerts et Musique
GEO:46.82307300000000;0.54648100000000
LOCATION:6 avenue du Général de Gaulle
La Station\, 86100 Châtellerault\, France
URL:https://www.fest.fr/e/2427824
UID:2427824-1@fest.fr
END:VEVENT
END:VCALENDAR
