BEGIN:VCALENDAR
CALSCALE:GREGORIAN
VERSION:2.0
METHOD:PUBLISH 
X-WR-CALNAME:
BEGIN:VEVENT
DTSTART;TZID=Europe/Paris:20260425T143000
DTEND;TZID=Europe/Paris:20260425T153000
SUMMARY:Visite du quartier de la SICA aux Abatilles
CATEGORIE:Expositions, Visites et Découvertes
GEO:44.65857000000000;-1.18880000000000
LOCATION:Avenue du Parc Péreire\, 33120 Arcachon\, France
URL:https://www.fest.fr/e/2427720
UID:2427720-1@fest.fr
END:VEVENT
END:VCALENDAR
