BEGIN:VCALENDAR
CALSCALE:GREGORIAN
VERSION:2.0
METHOD:PUBLISH 
X-WR-CALNAME:
BEGIN:VEVENT
DTSTART;TZID=Europe/Paris:20260425T100000
DTEND;TZID=Europe/Paris:20260425T110000
SUMMARY:Atelier de percussions corporelles
CATEGORIE:Stages, Ateliers et Initiations
GEO:42.99900850000000;-0.60031160000000
LOCATION:1 place François Sarraillé
Bibliothèque de Bedous\, 64490 Bedous\, France
URL:https://www.fest.fr/e/2427589
UID:2427589-1@fest.fr
END:VEVENT
END:VCALENDAR
