BEGIN:VCALENDAR
CALSCALE:GREGORIAN
VERSION:2.0
METHOD:PUBLISH 
X-WR-CALNAME:
BEGIN:VEVENT
DTSTART;TZID=Europe/Paris:20260417T123456
DTEND;TZID=Europe/Paris:20260417T133456
SUMMARY:Exposition Loic Lallemand
CATEGORIE:Expositions, Visites et Découvertes
GEO:44.22431790000000;-1.15180800000000
LOCATION:La Gare de L'Art\, 40200 Sainte-Eulalie-en-Born\, France
URL:https://www.fest.fr/e/2427545
UID:2427545-1@fest.fr
END:VEVENT
END:VCALENDAR
