BEGIN:VCALENDAR
CALSCALE:GREGORIAN
VERSION:2.0
METHOD:PUBLISH 
X-WR-CALNAME:
BEGIN:VEVENT
DTSTART;TZID=Europe/Paris:20260413T210000
DTEND;TZID=Europe/Paris:20260413T220000
SUMMARY:Film surprise
CATEGORIE:Spectacles et Théâtre
GEO:43.32762410000000;-1.03606680000000
LOCATION:Complexe Saint-Louis
Rue Jean Urruty\, 64120 Saint-Palais\, France
URL:https://www.fest.fr/e/2427504
UID:2427504-1@fest.fr
END:VEVENT
END:VCALENDAR
