BEGIN:VCALENDAR
CALSCALE:GREGORIAN
VERSION:2.0
METHOD:PUBLISH 
X-WR-CALNAME:
BEGIN:VEVENT
DTSTART;TZID=Europe/Paris:20260522T200000
DTEND;TZID=Europe/Paris:20260522T210000
SUMMARY:Coquelicontes : Le roman de Renart
CATEGORIE:Littérature
GEO:45.53534710000000;1.79555970000000
LOCATION:15 avenue du Général de Gaulle\, 19260 Treignac\, France
URL:https://www.fest.fr/e/2427463
UID:2427463-1@fest.fr
END:VEVENT
END:VCALENDAR
