BEGIN:VCALENDAR
CALSCALE:GREGORIAN
VERSION:2.0
METHOD:PUBLISH 
X-WR-CALNAME:
BEGIN:VEVENT
DTSTART;TZID=Europe/Paris:20260426T140000
DTEND;TZID=Europe/Paris:20260426T150000
SUMMARY:Dimanche Rando
CATEGORIE:Randonnées et balades
GEO:46.26781000000000;1.86432000000000
LOCATION:Place de l'Église\, 23000 Anzême\, France
URL:https://www.fest.fr/e/2427354
UID:2427354-1@fest.fr
END:VEVENT
END:VCALENDAR
