BEGIN:VCALENDAR
CALSCALE:GREGORIAN
VERSION:2.0
METHOD:PUBLISH 
X-WR-CALNAME:
BEGIN:VEVENT
DTSTART;TZID=Europe/Paris:20260526T100000
DTEND;TZID=Europe/Paris:20260526T110000
SUMMARY:Exposition Mulhode invite Laurence Zamboni à Blaye
CATEGORIE:Expositions, Visites et Découvertes
GEO:45.12938100000000;-0.66617780000000
LOCATION:La citadelle
Salle de la Poudrière\, 33390 Blaye\, France
URL:https://www.fest.fr/e/2427331
UID:2427331-1@fest.fr
END:VEVENT
END:VCALENDAR
