BEGIN:VCALENDAR
CALSCALE:GREGORIAN
VERSION:2.0
METHOD:PUBLISH 
X-WR-CALNAME:
BEGIN:VEVENT
DTSTART;TZID=Europe/Paris:20260417T150000
DTEND;TZID=Europe/Paris:20260417T160000
SUMMARY:Marmande au Fil des Arts à CESAme
CATEGORIE:Fêtes et Animations
GEO:44.49598830000000;0.17692510000000
LOCATION:1-7 Rue Edouard Manet
CESAme\, 47200 Marmande\, France
URL:https://www.fest.fr/e/2427235
UID:2427235-1@fest.fr
END:VEVENT
END:VCALENDAR
