BEGIN:VCALENDAR
CALSCALE:GREGORIAN
VERSION:2.0
METHOD:PUBLISH 
X-WR-CALNAME:
BEGIN:VEVENT
DTSTART;TZID=Europe/Paris:20260413T110000
DTEND;TZID=Europe/Paris:20260413T120000
SUMMARY:Escape game de Bonaguil printemps 2026
CATEGORIE:Jeux et Concours
GEO:44.57604600000000;0.97158600000000
LOCATION:Château de Bonaguil\, 47500 Saint-Front-sur-Lémance\, France
URL:https://www.fest.fr/e/2427188
UID:2427188-1@fest.fr
END:VEVENT
END:VCALENDAR
