BEGIN:VCALENDAR
CALSCALE:GREGORIAN
VERSION:2.0
METHOD:PUBLISH 
X-WR-CALNAME:
BEGIN:VEVENT
DTSTART;TZID=Europe/Paris:20260421T123456
DTEND;TZID=Europe/Paris:20260421T133456
SUMMARY:Devenez tapissier le temps d’un stage
CATEGORIE:Stages, Ateliers et Initiations
GEO:45.02062880000000;0.53779268000000
LOCATION:35 avenue Edouard Dupuy\, 24140 Villamblard\, France
URL:https://www.fest.fr/e/2427066
UID:2427066-1@fest.fr
END:VEVENT
END:VCALENDAR
