BEGIN:VCALENDAR
CALSCALE:GREGORIAN
VERSION:2.0
METHOD:PUBLISH 
X-WR-CALNAME:
BEGIN:VEVENT
DTSTART;TZID=Europe/Paris:20260501T100000
DTEND;TZID=Europe/Paris:20260501T110000
SUMMARY:Troc vert, cirque, concert...
CATEGORIE:Fêtes et Animations
GEO:45.24195590000000;0.99151300000000
LOCATION:Saint Pantaly d'Ans\, 24640 Cubjac-Auvézère-Val d'Ans\, France
URL:https://www.fest.fr/e/2427041
UID:2427041-1@fest.fr
END:VEVENT
END:VCALENDAR
