BEGIN:VCALENDAR
CALSCALE:GREGORIAN
VERSION:2.0
METHOD:PUBLISH 
X-WR-CALNAME:
BEGIN:VEVENT
DTSTART;TZID=Europe/Paris:20260416T103000
DTEND;TZID=Europe/Paris:20260416T113000
SUMMARY:Visite guidée de la Cité du Cuir
CATEGORIE:Expositions, Visites et Découvertes
GEO:45.88068190000000;0.90678269000000
LOCATION:20 Chemin Notre Dame au Goth
Cité du Cuir\, 87200 Saint-Junien\, France
URL:https://www.fest.fr/e/2427008
UID:2427008-1@fest.fr
END:VEVENT
BEGIN:VEVENT
DTSTART;TZID=Europe/Paris:20260417T150000
DTEND;TZID=Europe/Paris:20260417T160000
SUMMARY:Visite guidée de la Cité du Cuir
CATEGORIE:Expositions, Visites et Découvertes
GEO:45.88068190000000;0.90678269000000
LOCATION:20 Chemin Notre Dame au Goth
Cité du Cuir\, 87200 Saint-Junien\, France
URL:https://www.fest.fr/e/2427008
UID:2427008-2@fest.fr
END:VEVENT
BEGIN:VEVENT
DTSTART;TZID=Europe/Paris:20260422T103000
DTEND;TZID=Europe/Paris:20260422T113000
SUMMARY:Visite guidée de la Cité du Cuir
CATEGORIE:Expositions, Visites et Découvertes
GEO:45.88068190000000;0.90678269000000
LOCATION:20 Chemin Notre Dame au Goth
Cité du Cuir\, 87200 Saint-Junien\, France
URL:https://www.fest.fr/e/2427008
UID:2427008-3@fest.fr
END:VEVENT
BEGIN:VEVENT
DTSTART;TZID=Europe/Paris:20260425T143000
DTEND;TZID=Europe/Paris:20260425T153000
SUMMARY:Visite guidée de la Cité du Cuir
CATEGORIE:Expositions, Visites et Découvertes
GEO:45.88068190000000;0.90678269000000
LOCATION:20 Chemin Notre Dame au Goth
Cité du Cuir\, 87200 Saint-Junien\, France
URL:https://www.fest.fr/e/2427008
UID:2427008-4@fest.fr
END:VEVENT
END:VCALENDAR
