BEGIN:VCALENDAR
CALSCALE:GREGORIAN
VERSION:2.0
METHOD:PUBLISH 
X-WR-CALNAME:
BEGIN:VEVENT
DTSTART;TZID=Europe/Paris:20260410T190000
DTEND;TZID=Europe/Paris:20260410T200000
SUMMARY:"Veni, vidi : Vinci" du groupe Anamorphose - sortie de résidence
CATEGORIE:Spectacles et Théâtre
GEO:44.73447800000000;-0.26131800000000
LOCATION:Allée d'Amour
Espace René Lazare\, 33760 Targon\, France
URL:https://www.fest.fr/e/2427005
UID:2427005-1@fest.fr
END:VEVENT
END:VCALENDAR
