BEGIN:VCALENDAR
CALSCALE:GREGORIAN
VERSION:2.0
METHOD:PUBLISH 
X-WR-CALNAME:
BEGIN:VEVENT
DTSTART;TZID=Europe/Paris:20260425T123456
DTEND;TZID=Europe/Paris:20260425T133456
SUMMARY:Stage de théâtre d'impro à la Bertrande
CATEGORIE:Stages, Ateliers et Initiations
GEO:44.73108700000000;0.27433700000000
LOCATION:Domaine Dame Bertrande\, 47120 Saint-Astier\, France
URL:https://www.fest.fr/e/2426958
UID:2426958-1@fest.fr
END:VEVENT
END:VCALENDAR
