BEGIN:VCALENDAR
CALSCALE:GREGORIAN
VERSION:2.0
METHOD:PUBLISH 
X-WR-CALNAME:
BEGIN:VEVENT
DTSTART;TZID=Europe/Paris:20260418T200000
DTEND;TZID=Europe/Paris:20260418T210000
SUMMARY:Rencontre littéraire avec Eve Guillou
CATEGORIE:Littérature
GEO:45.30901480000000;0.81960110000000
LOCATION:14 Avenue des Arts\, 24420 Sorges-et-Ligueux-en-Périgord\, France
URL:https://www.fest.fr/e/2426926
UID:2426926-1@fest.fr
END:VEVENT
END:VCALENDAR
