BEGIN:VCALENDAR
CALSCALE:GREGORIAN
VERSION:2.0
METHOD:PUBLISH 
X-WR-CALNAME:
BEGIN:VEVENT
DTSTART;TZID=Europe/Paris:20260425T140000
DTEND;TZID=Europe/Paris:20260425T150000
SUMMARY:Balade nature "A la découverte du paysage du marais" à Bessines
CATEGORIE:Randonnées et balades
GEO:46.30174350000000;-0.51429210000000
LOCATION:Place de la Mairie\, 79000 Bessines\, France
URL:https://www.fest.fr/e/2426901
UID:2426901-1@fest.fr
END:VEVENT
END:VCALENDAR
