BEGIN:VCALENDAR
CALSCALE:GREGORIAN
VERSION:2.0
METHOD:PUBLISH 
X-WR-CALNAME:
BEGIN:VEVENT
DTSTART;TZID=Europe/Paris:20260502T123456
DTEND;TZID=Europe/Paris:20260502T133456
SUMMARY:Tournoi de Tennis
CATEGORIE:Sports
GEO:44.65134610000000;-1.19042820000000
LOCATION:7 Avenue du Parc
Tennis Club\, 33120 Arcachon\, France
URL:https://www.fest.fr/e/2426867
UID:2426867-1@fest.fr
END:VEVENT
BEGIN:VEVENT
DTSTART;TZID=Europe/Paris:20260523T123456
DTEND;TZID=Europe/Paris:20260523T133456
SUMMARY:Tournoi de Tennis
CATEGORIE:Sports
GEO:44.65134610000000;-1.19042820000000
LOCATION:7 Avenue du Parc
Tennis Club\, 33120 Arcachon\, France
URL:https://www.fest.fr/e/2426867
UID:2426867-2@fest.fr
END:VEVENT
BEGIN:VEVENT
DTSTART;TZID=Europe/Paris:20260606T123456
DTEND;TZID=Europe/Paris:20260606T133456
SUMMARY:Tournoi de Tennis
CATEGORIE:Sports
GEO:44.65134610000000;-1.19042820000000
LOCATION:7 Avenue du Parc
Tennis Club\, 33120 Arcachon\, France
URL:https://www.fest.fr/e/2426867
UID:2426867-3@fest.fr
END:VEVENT
BEGIN:VEVENT
DTSTART;TZID=Europe/Paris:20260621T123456
DTEND;TZID=Europe/Paris:20260621T133456
SUMMARY:Tournoi de Tennis
CATEGORIE:Sports
GEO:44.65134610000000;-1.19042820000000
LOCATION:7 Avenue du Parc
Tennis Club\, 33120 Arcachon\, France
URL:https://www.fest.fr/e/2426867
UID:2426867-4@fest.fr
END:VEVENT
BEGIN:VEVENT
DTSTART;TZID=Europe/Paris:20260625T123456
DTEND;TZID=Europe/Paris:20260625T133456
SUMMARY:Tournoi de Tennis
CATEGORIE:Sports
GEO:44.65134610000000;-1.19042820000000
LOCATION:7 Avenue du Parc
Tennis Club\, 33120 Arcachon\, France
URL:https://www.fest.fr/e/2426867
UID:2426867-5@fest.fr
END:VEVENT
END:VCALENDAR
