BEGIN:VCALENDAR
CALSCALE:GREGORIAN
VERSION:2.0
METHOD:PUBLISH 
X-WR-CALNAME:
BEGIN:VEVENT
DTSTART;TZID=Europe/Paris:20260425T140000
DTEND;TZID=Europe/Paris:20260425T150000
SUMMARY:Cercle de Femmes | Les Gardiennes du Passage
CATEGORIE:Stages, Ateliers et Initiations
GEO:44.66885790000000;0.39774626000000
LOCATION:31 Avenue de la Bastide\, 24500 Eymet\, France
URL:https://www.fest.fr/e/2426812
UID:2426812-1@fest.fr
END:VEVENT
END:VCALENDAR
