BEGIN:VCALENDAR
CALSCALE:GREGORIAN
VERSION:2.0
METHOD:PUBLISH 
X-WR-CALNAME:
BEGIN:VEVENT
DTSTART;TZID=Europe/Paris:20260715T103000
DTEND;TZID=Europe/Paris:20260715T113000
SUMMARY:Circuit training avec Laurie
CATEGORIE:Stages, Ateliers et Initiations
GEO:44.20789940000000;-1.27000400000000
LOCATION:24 rue de la papeterie
Parcours sportif du Courant\, 40200 Mimizan\, France
URL:https://www.fest.fr/e/2426754
UID:2426754-1@fest.fr
END:VEVENT
END:VCALENDAR
