BEGIN:VCALENDAR
CALSCALE:GREGORIAN
VERSION:2.0
METHOD:PUBLISH 
X-WR-CALNAME:
BEGIN:VEVENT
DTSTART;TZID=Europe/Paris:20260828T143000
DTEND;TZID=Europe/Paris:20260828T153000
SUMMARY:Atelier linogravure
CATEGORIE:Stages, Ateliers et Initiations
GEO:45.39243000000000;1.23581000000000
LOCATION:Papeterie de Vaux\, 24270 Payzac\, France
URL:https://www.fest.fr/e/2426708
UID:2426708-1@fest.fr
END:VEVENT
END:VCALENDAR
