BEGIN:VCALENDAR
CALSCALE:GREGORIAN
VERSION:2.0
METHOD:PUBLISH 
X-WR-CALNAME:
BEGIN:VEVENT
DTSTART;TZID=Europe/Paris:20260418T203000
DTEND;TZID=Europe/Paris:20260418T213000
SUMMARY:Pièce tragi-festive Porc Epic
CATEGORIE:Spectacles et Théâtre
LOCATION:Salle polyvalente\, 3 rue des Peintres\, 87600 Vayres\, France
URL:https://www.fest.fr/e/2426695
UID:2426695-1@fest.fr
END:VEVENT
END:VCALENDAR
