BEGIN:VCALENDAR
CALSCALE:GREGORIAN
VERSION:2.0
METHOD:PUBLISH 
X-WR-CALNAME:
BEGIN:VEVENT
DTSTART;TZID=Europe/Paris:20260601T143000
DTEND;TZID=Europe/Paris:20260601T153000
SUMMARY:Visite Flash à la Micro-Folie
CATEGORIE:Expositions, Visites et Découvertes
GEO:46.22162710000000;-0.14345760000000
LOCATION:2 rue Emilien Traver
Hôtel de Ménoc\, 79500 Melle\, France
URL:https://www.fest.fr/e/2426684
UID:2426684-1@fest.fr
END:VEVENT
END:VCALENDAR
