BEGIN:VCALENDAR
CALSCALE:GREGORIAN
VERSION:2.0
METHOD:PUBLISH 
X-WR-CALNAME:
BEGIN:VEVENT
DTSTART;TZID=Europe/Paris:20260418T190000
DTEND;TZID=Europe/Paris:20260418T200000
SUMMARY:Fête de la St Parfait
CATEGORIE:Fêtes et Animations
GEO:44.20601500000000;0.25860490000000
LOCATION:Place du village et salle des fêtes\, 47230 Xaintrailles\, France
URL:https://www.fest.fr/e/2426652
UID:2426652-1@fest.fr
END:VEVENT
END:VCALENDAR
