BEGIN:VCALENDAR
CALSCALE:GREGORIAN
VERSION:2.0
METHOD:PUBLISH 
X-WR-CALNAME:
BEGIN:VEVENT
DTSTART;TZID=Europe/Paris:20260411T123456
DTEND;TZID=Europe/Paris:20260411T133456
SUMMARY:Rencontre & Dédicace avec Paul Germain
CATEGORIE:Littérature
GEO:46.84714040000000;1.53782040000000
LOCATION:1 Rue Jean Jaurès\, 36320 Villedieu-sur-Indre\, France
URL:https://www.fest.fr/e/2426455
UID:2426455-1@fest.fr
END:VEVENT
END:VCALENDAR
