BEGIN:VCALENDAR
CALSCALE:GREGORIAN
VERSION:2.0
METHOD:PUBLISH 
X-WR-CALNAME:
BEGIN:VEVENT
DTSTART;TZID=Europe/Paris:20260720T090000
DTEND;TZID=Europe/Paris:20260720T100000
SUMMARY:Stages Découverte D’Aviron
CATEGORIE:Stages, Ateliers et Initiations
GEO:47.05826670000000;2.39683110000000
LOCATION:Chemin du Grand Mazières\, 18000 Bourges\, France
URL:https://www.fest.fr/e/2426414
UID:2426414-1@fest.fr
END:VEVENT
BEGIN:VEVENT
DTSTART;TZID=Europe/Paris:20260720T140000
DTEND;TZID=Europe/Paris:20260720T150000
SUMMARY:Stages Découverte D’Aviron
CATEGORIE:Stages, Ateliers et Initiations
GEO:47.05826670000000;2.39683110000000
LOCATION:Chemin du Grand Mazières\, 18000 Bourges\, France
URL:https://www.fest.fr/e/2426414
UID:2426414-2@fest.fr
END:VEVENT
BEGIN:VEVENT
DTSTART;TZID=Europe/Paris:20260810T090000
DTEND;TZID=Europe/Paris:20260810T100000
SUMMARY:Stages Découverte D’Aviron
CATEGORIE:Stages, Ateliers et Initiations
GEO:47.05826670000000;2.39683110000000
LOCATION:Chemin du Grand Mazières\, 18000 Bourges\, France
URL:https://www.fest.fr/e/2426414
UID:2426414-3@fest.fr
END:VEVENT
BEGIN:VEVENT
DTSTART;TZID=Europe/Paris:20260810T140000
DTEND;TZID=Europe/Paris:20260810T150000
SUMMARY:Stages Découverte D’Aviron
CATEGORIE:Stages, Ateliers et Initiations
GEO:47.05826670000000;2.39683110000000
LOCATION:Chemin du Grand Mazières\, 18000 Bourges\, France
URL:https://www.fest.fr/e/2426414
UID:2426414-4@fest.fr
END:VEVENT
BEGIN:VEVENT
DTSTART;TZID=Europe/Paris:20260817T090000
DTEND;TZID=Europe/Paris:20260817T100000
SUMMARY:Stages Découverte D’Aviron
CATEGORIE:Stages, Ateliers et Initiations
GEO:47.05826670000000;2.39683110000000
LOCATION:Chemin du Grand Mazières\, 18000 Bourges\, France
URL:https://www.fest.fr/e/2426414
UID:2426414-5@fest.fr
END:VEVENT
BEGIN:VEVENT
DTSTART;TZID=Europe/Paris:20260817T140000
DTEND;TZID=Europe/Paris:20260817T150000
SUMMARY:Stages Découverte D’Aviron
CATEGORIE:Stages, Ateliers et Initiations
GEO:47.05826670000000;2.39683110000000
LOCATION:Chemin du Grand Mazières\, 18000 Bourges\, France
URL:https://www.fest.fr/e/2426414
UID:2426414-6@fest.fr
END:VEVENT
BEGIN:VEVENT
DTSTART;TZID=Europe/Paris:20260824T090000
DTEND;TZID=Europe/Paris:20260824T100000
SUMMARY:Stages Découverte D’Aviron
CATEGORIE:Stages, Ateliers et Initiations
GEO:47.05826670000000;2.39683110000000
LOCATION:Chemin du Grand Mazières\, 18000 Bourges\, France
URL:https://www.fest.fr/e/2426414
UID:2426414-7@fest.fr
END:VEVENT
BEGIN:VEVENT
DTSTART;TZID=Europe/Paris:20260824T140000
DTEND;TZID=Europe/Paris:20260824T150000
SUMMARY:Stages Découverte D’Aviron
CATEGORIE:Stages, Ateliers et Initiations
GEO:47.05826670000000;2.39683110000000
LOCATION:Chemin du Grand Mazières\, 18000 Bourges\, France
URL:https://www.fest.fr/e/2426414
UID:2426414-8@fest.fr
END:VEVENT
END:VCALENDAR
