BEGIN:VCALENDAR
CALSCALE:GREGORIAN
VERSION:2.0
METHOD:PUBLISH 
X-WR-CALNAME:
BEGIN:VEVENT
DTSTART;TZID=Europe/Paris:20260426T090000
DTEND;TZID=Europe/Paris:20260426T100000
SUMMARY:Randonnée verte ludique familiale et caritative
CATEGORIE:Randonnées et balades
GEO:48.03557900000000;1.27227200000000
LOCATION:Local AAPPMA\, 28220 Cloyes les Trois Rivières\, France
URL:https://www.fest.fr/e/2426371
UID:2426371-1@fest.fr
END:VEVENT
END:VCALENDAR
