BEGIN:VCALENDAR
CALSCALE:GREGORIAN
VERSION:2.0
METHOD:PUBLISH 
X-WR-CALNAME:
BEGIN:VEVENT
DTSTART;TZID=Europe/Paris:20261030T200000
DTEND;TZID=Europe/Paris:20261030T210000
SUMMARY:Véronique Sanson - Tournée
CATEGORIE:Concerts et musique
GEO:49.16896027590200;-0.38326788687200
LOCATION:Zénith de Caen - Normandie\, Rue Joseph Philippon\, 14000 Caen\, France
URL:https://www.fest.fr/e/2426367
UID:2426367-1@fest.fr
END:VEVENT
END:VCALENDAR
