BEGIN:VCALENDAR
CALSCALE:GREGORIAN
VERSION:2.0
METHOD:PUBLISH 
X-WR-CALNAME:
BEGIN:VEVENT
DTSTART;TZID=Europe/Paris:20261010T200000
DTEND;TZID=Europe/Paris:20261010T210000
SUMMARY:Véronique Sanson - Tournée
CATEGORIE:Concerts et musique
GEO:45.45408865860600;4.39440478904600
LOCATION:Zénith de Saint-Étienne\, Rue Scheurer Kestner\, 42000 Saint-Étienne\, France
URL:https://www.fest.fr/e/2426314
UID:2426314-1@fest.fr
END:VEVENT
END:VCALENDAR
