BEGIN:VCALENDAR
CALSCALE:GREGORIAN
VERSION:2.0
METHOD:PUBLISH 
X-WR-CALNAME:
BEGIN:VEVENT
DTSTART;TZID=Europe/Paris:20261002T203000
DTEND;TZID=Europe/Paris:20261002T213000
SUMMARY:Vincent Delerm - Tournée
CATEGORIE:Concerts et musique
GEO:43.31566353331000;5.37730077047900
LOCATION:SCENE MEDITERRANEE\, 16 promenade Léo Ferre\, 13003 Marseille 3e\, France
URL:https://www.fest.fr/e/2426307
UID:2426307-1@fest.fr
END:VEVENT
END:VCALENDAR
