BEGIN:VCALENDAR
CALSCALE:GREGORIAN
VERSION:2.0
METHOD:PUBLISH 
X-WR-CALNAME:
BEGIN:VEVENT
DTSTART;TZID=Europe/Paris:20260423T100000
DTEND;TZID=Europe/Paris:20260423T110000
SUMMARY:Les ateliers d'initiation
CATEGORIE:Stages, Ateliers et Initiations
GEO:47.68855030000000;2.62113490000000
LOCATION:78 place de la Victoire\, 45500 Gien\, France
URL:https://www.fest.fr/e/2426290
UID:2426290-1@fest.fr
END:VEVENT
BEGIN:VEVENT
DTSTART;TZID=Europe/Paris:20260428T100000
DTEND;TZID=Europe/Paris:20260428T110000
SUMMARY:Les ateliers d'initiation
CATEGORIE:Stages, Ateliers et Initiations
GEO:47.68855030000000;2.62113490000000
LOCATION:78 place de la Victoire\, 45500 Gien\, France
URL:https://www.fest.fr/e/2426290
UID:2426290-2@fest.fr
END:VEVENT
END:VCALENDAR
