BEGIN:VCALENDAR
CALSCALE:GREGORIAN
VERSION:2.0
METHOD:PUBLISH 
X-WR-CALNAME:
BEGIN:VEVENT
DTSTART;TZID=Europe/Paris:20260509T190000
DTEND;TZID=Europe/Paris:20260509T200000
SUMMARY:Choeur régional de Nouvelle Aquitaine
CATEGORIE:Concerts et Musique
GEO:45.93718010060459;-0.96206545829775
LOCATION:Eglise Saint-Louis ROCHEFORT 17\, Rue Audry de Puyravault\, 17300 Rochefort\, France
URL:https://www.fest.fr/e/2426271
UID:2426271-1@fest.fr
END:VEVENT
END:VCALENDAR
