BEGIN:VCALENDAR
CALSCALE:GREGORIAN
VERSION:2.0
METHOD:PUBLISH 
X-WR-CALNAME:
BEGIN:VEVENT
DTSTART;TZID=Europe/Paris:20260713T220000
DTEND;TZID=Europe/Paris:20260713T230000
SUMMARY:Les Suds à Arles
CATEGORIE:Concerts et musique
GEO:43.67651485163200;4.62768260932900
LOCATION:Cour de l'Archevêché\, Place de la République\, 13200 Arles\, France
URL:https://www.fest.fr/e/2426261
UID:2426261-1@fest.fr
END:VEVENT
BEGIN:VEVENT
DTSTART;TZID=Europe/Paris:20260715T193000
DTEND;TZID=Europe/Paris:20260715T203000
SUMMARY:Les Suds à Arles
CATEGORIE:Concerts et musique
GEO:43.67651485163200;4.62768260932900
LOCATION:Cour de l'Archevêché\, Place de la République\, 13200 Arles\, France
URL:https://www.fest.fr/e/2426261
UID:2426261-2@fest.fr
END:VEVENT
BEGIN:VEVENT
DTSTART;TZID=Europe/Paris:20260716T003000
DTEND;TZID=Europe/Paris:20260716T013000
SUMMARY:Les Suds à Arles
CATEGORIE:Concerts et musique
GEO:43.67651485163200;4.62768260932900
LOCATION:Cour de l'Archevêché\, Place de la République\, 13200 Arles\, France
URL:https://www.fest.fr/e/2426261
UID:2426261-3@fest.fr
END:VEVENT
BEGIN:VEVENT
DTSTART;TZID=Europe/Paris:20260717T003000
DTEND;TZID=Europe/Paris:20260717T013000
SUMMARY:Les Suds à Arles
CATEGORIE:Concerts et musique
GEO:43.67651485163200;4.62768260932900
LOCATION:Cour de l'Archevêché\, Place de la République\, 13200 Arles\, France
URL:https://www.fest.fr/e/2426261
UID:2426261-4@fest.fr
END:VEVENT
BEGIN:VEVENT
DTSTART;TZID=Europe/Paris:20260718T003000
DTEND;TZID=Europe/Paris:20260718T013000
SUMMARY:Les Suds à Arles
CATEGORIE:Concerts et musique
GEO:43.67651485163200;4.62768260932900
LOCATION:Cour de l'Archevêché\, Place de la République\, 13200 Arles\, France
URL:https://www.fest.fr/e/2426261
UID:2426261-5@fest.fr
END:VEVENT
END:VCALENDAR
