BEGIN:VCALENDAR
CALSCALE:GREGORIAN
VERSION:2.0
METHOD:PUBLISH 
X-WR-CALNAME:
BEGIN:VEVENT
DTSTART;TZID=Europe/Paris:20260418T160000
DTEND;TZID=Europe/Paris:20260418T170000
SUMMARY:Rallye photo
CATEGORIE:Jeux et Concours
GEO:46.72130640000000;2.50923310000000
LOCATION:3 Rue Hôtel Dieu\, 18200 Saint-Amand-Montrond\, France
URL:https://www.fest.fr/e/2426207
UID:2426207-1@fest.fr
END:VEVENT
END:VCALENDAR
