BEGIN:VCALENDAR
CALSCALE:GREGORIAN
VERSION:2.0
METHOD:PUBLISH 
X-WR-CALNAME:
BEGIN:VEVENT
DTSTART;TZID=Europe/Paris:20260502T100000
DTEND;TZID=Europe/Paris:20260502T110000
SUMMARY:Bourse aux plantes de printemps
CATEGORIE:Brocantes, Bourses et Vide-Greniers
GEO:45.74164100000000;-0.60636500000000
LOCATION:58 rue Rabelais
Salle de la Récluse\, 17100 Saintes\, France
URL:https://www.fest.fr/e/2426186
UID:2426186-1@fest.fr
END:VEVENT
END:VCALENDAR
