BEGIN:VCALENDAR
CALSCALE:GREGORIAN
VERSION:2.0
METHOD:PUBLISH 
X-WR-CALNAME:
BEGIN:VEVENT
DTSTART;TZID=Europe/Paris:20260419T130000
DTEND;TZID=Europe/Paris:20260419T140000
SUMMARY:Grand Prix féminin de Chambéry
CATEGORIE:Sports
GEO:45.59538400000000;5.90403700000000
LOCATION:Place Paul Vachez\, 73000 Chambéry\, France
URL:https://www.fest.fr/e/2426183
UID:2426183-1@fest.fr
END:VEVENT
END:VCALENDAR
