BEGIN:VCALENDAR
CALSCALE:GREGORIAN
VERSION:2.0
METHOD:PUBLISH 
X-WR-CALNAME:
BEGIN:VEVENT
DTSTART;TZID=Europe/Paris:20260515T123456
DTEND;TZID=Europe/Paris:20260515T133456
SUMMARY:Randonnée semi-nocturne à Villars les Bois
CATEGORIE:Randonnées et balades
GEO:45.79906400000000;-0.43856900000000
LOCATION:Salle des fêtes\, 17770 Saint-Bris-des-Bois\, France
URL:https://www.fest.fr/e/2426106
UID:2426106-1@fest.fr
END:VEVENT
END:VCALENDAR
