BEGIN:VCALENDAR
CALSCALE:GREGORIAN
VERSION:2.0
METHOD:PUBLISH 
X-WR-CALNAME:
BEGIN:VEVENT
DTSTART;TZID=Europe/Paris:20260715T170000
DTEND;TZID=Europe/Paris:20260715T180000
SUMMARY:Marché artisanal et producteurs locaux
CATEGORIE:Marchés, Foires et Salons
GEO:44.41426700000000;5.35643900000000
LOCATION:Place du Champ de Mars\, 26510 Rémuzat\, France
URL:https://www.fest.fr/e/2426097
UID:2426097-1@fest.fr
END:VEVENT
END:VCALENDAR
