BEGIN:VCALENDAR
CALSCALE:GREGORIAN
VERSION:2.0
METHOD:PUBLISH 
X-WR-CALNAME:
BEGIN:VEVENT
DTSTART;TZID=Europe/Paris:20260422T203000
DTEND;TZID=Europe/Paris:20260422T213000
SUMMARY:Lucas & Veufla - En Carence De Fer | Comédie des Volcans
CATEGORIE:Spectacles et Théâtre
GEO:45.79774100000000;3.13624500000000
LOCATION:15 boulevard Louis-Chartoire
Comédie des Volcans\, 63100 Clermont-Ferrand\, France
URL:https://www.fest.fr/e/2426022
UID:2426022-1@fest.fr
END:VEVENT
END:VCALENDAR
