BEGIN:VCALENDAR
CALSCALE:GREGORIAN
VERSION:2.0
METHOD:PUBLISH 
X-WR-CALNAME:
BEGIN:VEVENT
DTSTART;TZID=Europe/Paris:20260422T173000
DTEND;TZID=Europe/Paris:20260422T183000
SUMMARY:Culturo'poing - Scène ouverte
CATEGORIE:Concerts et Musique
GEO:45.04710100000000;5.05197200000000
LOCATION:20 rue de la République
PIJ (Prévention Information Jeunesse)\, 26100 Romans-sur-Isère\, France
URL:https://www.fest.fr/e/2426008
UID:2426008-1@fest.fr
END:VEVENT
END:VCALENDAR
