BEGIN:VCALENDAR
CALSCALE:GREGORIAN
VERSION:2.0
METHOD:PUBLISH 
X-WR-CALNAME:
BEGIN:VEVENT
DTSTART;TZID=Europe/Paris:20260424T123456
DTEND;TZID=Europe/Paris:20260424T133456
SUMMARY:Spectacle théâtre "Drôle de Gare"
CATEGORIE:Spectacles et Théâtre
GEO:46.13218300000000;3.43200100000000
LOCATION:18 boulevard des Graves
Back Step Théâtre\, 03200 Vichy\, France
URL:https://www.fest.fr/e/2425962
UID:2425962-1@fest.fr
END:VEVENT
END:VCALENDAR
