BEGIN:VCALENDAR
CALSCALE:GREGORIAN
VERSION:2.0
METHOD:PUBLISH 
X-WR-CALNAME:
BEGIN:VEVENT
DTSTART;TZID=Europe/Paris:20260412T150000
DTEND;TZID=Europe/Paris:20260412T160000
SUMMARY:Théâtre : "Toutou" par la Cie du Bas Rouge
CATEGORIE:Spectacles et Théâtre
GEO:45.09376100000000;5.04798700000000
LOCATION:195 - Le Village
Rue des Ecoles
Salle des fêtes\, 26380 Peyrins\, France
URL:https://www.fest.fr/e/2425960
UID:2425960-1@fest.fr
END:VEVENT
END:VCALENDAR
