BEGIN:VCALENDAR
CALSCALE:GREGORIAN
VERSION:2.0
METHOD:PUBLISH 
X-WR-CALNAME:
BEGIN:VEVENT
DTSTART;TZID=Europe/Paris:20260426T123456
DTEND;TZID=Europe/Paris:20260426T133456
SUMMARY:"Métamorphose, du burn-out à la rencontre de soi"
CATEGORIE:Conférences, Forums et Débats
GEO:44.72946000000000;5.02486400000000
LOCATION:salle des Colibris\, 26400 Crest\, France
URL:https://www.fest.fr/e/2425757
UID:2425757-1@fest.fr
END:VEVENT
END:VCALENDAR
