BEGIN:VCALENDAR
CALSCALE:GREGORIAN
VERSION:2.0
METHOD:PUBLISH 
X-WR-CALNAME:
BEGIN:VEVENT
DTSTART;TZID=Europe/Paris:20260606T093000
DTEND;TZID=Europe/Paris:20260606T103000
SUMMARY:L'atelier Bien-Etre
CATEGORIE:Stages, Ateliers et Initiations
GEO:45.04804500000000;4.33247900000000
LOCATION:200 le Genest
Chez Nathalie Revel\, 43400 Le Chambon-sur-Lignon\, France
URL:https://www.fest.fr/e/2425679
UID:2425679-1@fest.fr
END:VEVENT
END:VCALENDAR
