BEGIN:VCALENDAR
CALSCALE:GREGORIAN
VERSION:2.0
METHOD:PUBLISH 
X-WR-CALNAME:
BEGIN:VEVENT
DTSTART;TZID=Europe/Paris:20260422T150000
DTEND;TZID=Europe/Paris:20260422T160000
SUMMARY:Information CESU  Chéque Emploi Service Universel
CATEGORIE:Conférences, Forums et Débats
GEO:44.39412200000000;4.92921400000000
LOCATION:Maison Milon
Place Emile Colongin\, 84600 Grillon\, France
URL:https://www.fest.fr/e/2425663
UID:2425663-1@fest.fr
END:VEVENT
END:VCALENDAR
